BEGIN:VCALENDAR
VERSION:2.0
PRODID:-//gdai-training - ECPv6.15.11//NONSGML v1.0//EN
CALSCALE:GREGORIAN
METHOD:PUBLISH
X-WR-CALNAME:gdai-training
X-ORIGINAL-URL:https://gdai-training.com
X-WR-CALDESC:Events for gdai-training
REFRESH-INTERVAL;VALUE=DURATION:PT1H
X-Robots-Tag:noindex
X-PUBLISHED-TTL:PT1H
BEGIN:VTIMEZONE
TZID:America/New_York
BEGIN:DAYLIGHT
TZOFFSETFROM:-0500
TZOFFSETTO:-0400
TZNAME:EDT
DTSTART:20220313T070000
END:DAYLIGHT
BEGIN:STANDARD
TZOFFSETFROM:-0400
TZOFFSETTO:-0500
TZNAME:EST
DTSTART:20221106T060000
END:STANDARD
BEGIN:DAYLIGHT
TZOFFSETFROM:-0500
TZOFFSETTO:-0400
TZNAME:EDT
DTSTART:20230312T070000
END:DAYLIGHT
BEGIN:STANDARD
TZOFFSETFROM:-0400
TZOFFSETTO:-0500
TZNAME:EST
DTSTART:20231105T060000
END:STANDARD
BEGIN:DAYLIGHT
TZOFFSETFROM:-0500
TZOFFSETTO:-0400
TZNAME:EDT
DTSTART:20240310T070000
END:DAYLIGHT
BEGIN:STANDARD
TZOFFSETFROM:-0400
TZOFFSETTO:-0500
TZNAME:EST
DTSTART:20241103T060000
END:STANDARD
END:VTIMEZONE
BEGIN:VEVENT
DTSTART;TZID=America/New_York:20230109T080000
DTEND;TZID=America/New_York:20230120T160000
DTSTAMP:20260425T111122
CREATED:20221209T152623Z
LAST-MODIFIED:20221209T164205Z
UID:7346-1673251200-1674230400@gdai-training.com
SUMMARY:BPS M3 W/NTL #01092023
DESCRIPTION:
URL:https://gdai-training.com/event/bps-m3-w-ntl-01092023/
LOCATION:G+D USA Training\, Location 45925 Horseshoe Dr. Sterling\, VA 20166\, VA\, 20166\, United States
ORGANIZER;CN="Albert Topacio":MAILTO:albert.topacio@gi-de.com
END:VEVENT
END:VCALENDAR