BEGIN:VCALENDAR
VERSION:2.0
PRODID:-//gdai-training - ECPv6.15.11//NONSGML v1.0//EN
CALSCALE:GREGORIAN
METHOD:PUBLISH
X-WR-CALNAME:gdai-training
X-ORIGINAL-URL:https://gdai-training.com
X-WR-CALDESC:Events for gdai-training
REFRESH-INTERVAL;VALUE=DURATION:PT1H
X-Robots-Tag:noindex
X-PUBLISHED-TTL:PT1H
BEGIN:VTIMEZONE
TZID:America/New_York
BEGIN:DAYLIGHT
TZOFFSETFROM:-0500
TZOFFSETTO:-0400
TZNAME:EDT
DTSTART:20220313T070000
END:DAYLIGHT
BEGIN:STANDARD
TZOFFSETFROM:-0400
TZOFFSETTO:-0500
TZNAME:EST
DTSTART:20221106T060000
END:STANDARD
BEGIN:DAYLIGHT
TZOFFSETFROM:-0500
TZOFFSETTO:-0400
TZNAME:EDT
DTSTART:20230312T070000
END:DAYLIGHT
BEGIN:STANDARD
TZOFFSETFROM:-0400
TZOFFSETTO:-0500
TZNAME:EST
DTSTART:20231105T060000
END:STANDARD
BEGIN:DAYLIGHT
TZOFFSETFROM:-0500
TZOFFSETTO:-0400
TZNAME:EDT
DTSTART:20240310T070000
END:DAYLIGHT
BEGIN:STANDARD
TZOFFSETFROM:-0400
TZOFFSETTO:-0500
TZNAME:EST
DTSTART:20241103T060000
END:STANDARD
END:VTIMEZONE
BEGIN:VEVENT
DTSTART;TZID=America/New_York:20231024T080000
DTEND;TZID=America/New_York:20231027T160000
DTSTAMP:20260424T013621
CREATED:20230811T150301Z
LAST-MODIFIED:20230811T150301Z
UID:8487-1698134400-1698422400@gdai-training.com
SUMMARY:BPS C5 Bander #10242023
DESCRIPTION:G+D USA Training Requirements \nNon-G+D Personnel:  You must log in (Course Enrollment Login) and successfully pass the GDAI Competency Evaluation before you can enroll in a training course.  Training attire is work casual.  On Friday’s\, Jeans are acceptable to wear. \n   Required Items for All Training Courses:\n\nSuccessful completion of the GDAI Competency Evaluation\nLaptop PC with:\n\nWindows XP\, or Windows 7/10 with VMWare Player 12.1 or 15.5 installed – all operating systems should include full administrator privileges.\nMicrosoft Office suite\nAdobe Flash player program\nAdobe PDF Reader\n\n\nUSB storage medium\, RJ-45 Crossover cable\, and USB to serial adapter may be required for your class.  Please see the chart below:\n\n\n\n\nProduct\nUSB Storage Type\nRJ45 Interface/ Crossover Cable1\nUSB/Serial adapter2\n\n\nBPS C4\n16GB USB 2.0\nYes\nYes\n\n\nBPS C5\n32GB USB 2.0\nNo\nNo\n\n\nBPS 1000\n32GB USB 2.0\nYes\nYes\n\n\nBPS M3\n64GB USB 3.0\nNo\nNo\n\n\nBPS M5\n32GB USB 2.0\nNo\nYes\n\n\n\n1 RJ45 (Ethernet) port must be fully installed\, and the Crossover cable should be 10ft minimum in length \n2 PC must contain 1 serial port\, or USB to serial adapter with FTDI Chip (G+D P/N 515424000 or Amazon P/N B006AA04K0). \nRecommended for All Training Courses: \nFor the best and most efficient class experience\, please make your best effort to know: \n\nWhich Operating System your BPS machine is currently utilizing (e.g. Windows NT\, Windows XP\, Windows 10\, Windows CE7)\nWhat your machine(s) configuration(s) are (e.g. BPS M5-L-4-4-4\, BPS M3-1060L\, BPS C4-15)\nWhat peripheral devices your site has (e.g. BPS Connect\, DEG\, Header Card Creator)\n\nRecommended Hotel accommodations (ask for the G+D rate) Marriott Residence Inn Dulles 28 Centre
URL:https://gdai-training.com/event/bps-c5-bander-10242023/
LOCATION:G+D USA Training\, Location 45925 Horseshoe Dr. Sterling\, VA 20166\, VA\, 20166\, United States
CATEGORIES:C5 Bander
ATTACH;FMTTYPE=image/png:https://gdai-training.com/wp-content/uploads/2023/08/BPS_C5_Bander.png
ORGANIZER;CN="Mark Runholt":MAILTO:mark.runholt@gi-de.com
END:VEVENT
BEGIN:VEVENT
DTSTART;TZID=America/New_York:20230929T080000
DTEND;TZID=America/New_York:20231004T160000
DTSTAMP:20260424T013621
CREATED:20230821T150011Z
LAST-MODIFIED:20230821T150011Z
UID:8526-1695974400-1696435200@gdai-training.com
SUMMARY:C5 Bander #09292023
DESCRIPTION:G+D USA Training Requirements \nNon-G+D Personnel:  You must log in (Course Enrollment Login) and successfully pass the GDAI Competency Evaluation before you can enroll in a training course.  Training attire is work casual.  On Friday’s\, Jeans are acceptable to wear. \n   Required Items for All Training Courses:\n\nSuccessful completion of the GDAI Competency Evaluation\nLaptop PC with:\n\nWindows XP\, or Windows 7/10 with VMWare Player 12.1 or 15.5 installed – all operating systems should include full administrator privileges.\nMicrosoft Office suite\nAdobe Flash player program\nAdobe PDF Reader\n\n\nUSB storage medium\, RJ-45 Crossover cable\, and USB to serial adapter may be required for your class.  Please see the chart below:\n\n\n\n\nProduct\nUSB Storage Type\nRJ45 Interface/ Crossover Cable1\nUSB/Serial adapter2\n\n\nBPS C4\n16GB USB 2.0\nYes\nYes\n\n\nBPS C5\n32GB USB 2.0\nNo\nNo\n\n\nBPS 1000\n32GB USB 2.0\nYes\nYes\n\n\nBPS M3\n64GB USB 3.0\nNo\nNo\n\n\nBPS M5\n32GB USB 2.0\nNo\nYes\n\n\n\n1 RJ45 (Ethernet) port must be fully installed\, and the Crossover cable should be 10ft minimum in length \n2 PC must contain 1 serial port\, or USB to serial adapter with FTDI Chip (G+D P/N 515424000 or Amazon P/N B006AA04K0). \nRecommended for All Training Courses: \nFor the best and most efficient class experience\, please make your best effort to know: \n\nWhich Operating System your BPS machine is currently utilizing (e.g. Windows NT\, Windows XP\, Windows 10\, Windows CE7)\nWhat your machine(s) configuration(s) are (e.g. BPS M5-L-4-4-4\, BPS M3-1060L\, BPS C4-15)\nWhat peripheral devices your site has (e.g. BPS Connect\, DEG\, Header Card Creator)\n\nRecommended Hotel accommodations (ask for the G+D rate) Marriott Residence Inn Dulles 28 Centre
URL:https://gdai-training.com/event/c5-bander-09292023/
LOCATION:G+D USA Training\, Location 45925 Horseshoe Dr. Sterling\, VA 20166\, VA\, 20166\, United States
CATEGORIES:C5 Bander
ATTACH;FMTTYPE=image/jpeg:https://gdai-training.com/wp-content/uploads/2023/07/2206_OM_GD_BPS_C5_01-006-weise-Maske-scaled.jpg
ORGANIZER;CN="Mark Runholt":MAILTO:mark.runholt@gi-de.com
END:VEVENT
BEGIN:VEVENT
DTSTART;TZID=America/New_York:20230829T080000
DTEND;TZID=America/New_York:20230901T160000
DTSTAMP:20260424T013621
CREATED:20230726T183540Z
LAST-MODIFIED:20230728T152744Z
UID:8367-1693296000-1693584000@gdai-training.com
SUMMARY:BPS C5 Bander #08292023
DESCRIPTION:This 4-day course will cover the C5 Bander only.  We will cover modules\, PD’s and sub-module removal and maintenance.  Time permitting\, we will cover differences in 3.7 and 3.10 input modules.
URL:https://gdai-training.com/event/bps-c5-bander-08292023/
LOCATION:G+D USA Training\, Location 45925 Horseshoe Dr. Sterling\, VA 20166\, VA\, 20166\, United States
CATEGORIES:C5 Bander
ATTACH;FMTTYPE=image/jpeg:https://gdai-training.com/wp-content/uploads/2023/07/2206_OM_GD_BPS_C5_01-006-weise-Maske-scaled.jpg
ORGANIZER;CN="Mark Runholt":MAILTO:mark.runholt@gi-de.com
END:VEVENT
END:VCALENDAR