BEGIN:VCALENDAR
VERSION:2.0
PRODID:-//gdai-training - ECPv6.15.11//NONSGML v1.0//EN
CALSCALE:GREGORIAN
METHOD:PUBLISH
X-WR-CALNAME:gdai-training
X-ORIGINAL-URL:https://gdai-training.com
X-WR-CALDESC:Events for gdai-training
REFRESH-INTERVAL;VALUE=DURATION:PT1H
X-Robots-Tag:noindex
X-PUBLISHED-TTL:PT1H
BEGIN:VTIMEZONE
TZID:America/Los_Angeles
BEGIN:DAYLIGHT
TZOFFSETFROM:-0800
TZOFFSETTO:-0700
TZNAME:PDT
DTSTART:20240310T100000
END:DAYLIGHT
BEGIN:STANDARD
TZOFFSETFROM:-0700
TZOFFSETTO:-0800
TZNAME:PST
DTSTART:20241103T090000
END:STANDARD
BEGIN:DAYLIGHT
TZOFFSETFROM:-0800
TZOFFSETTO:-0700
TZNAME:PDT
DTSTART:20250309T100000
END:DAYLIGHT
BEGIN:STANDARD
TZOFFSETFROM:-0700
TZOFFSETTO:-0800
TZNAME:PST
DTSTART:20251102T090000
END:STANDARD
BEGIN:DAYLIGHT
TZOFFSETFROM:-0800
TZOFFSETTO:-0700
TZNAME:PDT
DTSTART:20260308T100000
END:DAYLIGHT
BEGIN:STANDARD
TZOFFSETFROM:-0700
TZOFFSETTO:-0800
TZNAME:PST
DTSTART:20261101T090000
END:STANDARD
END:VTIMEZONE
BEGIN:VEVENT
DTSTART;TZID=America/Los_Angeles:20250710T090000
DTEND;TZID=America/Los_Angeles:20250718T160000
DTSTAMP:20260424T140332
CREATED:20250422T143645Z
LAST-MODIFIED:20250430T112732Z
UID:10105-1752138000-1752854400@gdai-training.com
SUMMARY:BPS C5 with Bander Basic Technical for G+D Vegas ONLY #07102025 West Coast FE's ONLY
DESCRIPTION:G+D USA Training Requirements \nALL Personnel:  You must log in (Course Enrollment Login) and successfully pass the GDAI Competency Evaluation before you can enroll in a training course.  Training attire is work casual.  On Friday’s\, Jeans are acceptable to wear. \n   Required Items for All Training Courses:\n\nSuccessful completion of the GDAI Competency Evaluation\nLaptop PC with:\n\nWindows XP\, or Windows 7/10 with VMWare Player 12.1 or 15.5 installed – all operating systems should include full administrator privileges.\nMicrosoft Office suite\nAdobe Flash player program\nAdobe PDF Reader\n\n\nUSB storage medium\, RJ-45 Crossover cable\, and USB to serial adapter may be required for your class.  Please see the chart below:\n\n\n\n\nProduct\nUSB Storage Type\nRJ45 Interface/ Crossover Cable1\nUSB/Serial adapter2\n\n\nBPS C4\n16GB USB 2.0\nYes\nYes\n\n\nBPS C5\n32GB USB 2.0\nNo\nNo\n\n\nBPS 1000\n32GB USB 2.0\nYes\nYes\n\n\nBPS M3\n64GB USB 3.0\nNo\nNo\n\n\nBPS M5\n32GB USB 2.0\nNo\nYes\n\n\n\n1 RJ45 (Ethernet) port must be fully installed\, and the Crossover cable should be 10ft minimum in length \n2 PC must contain 1 serial port\, or USB to serial adapter with FTDI Chip (G+D P/N 515424000 or Amazon P/N B006AA04K0). \nRecommended for All Training Courses: \nFor the best and most efficient class experience\, please make your best effort to know: \n\nWhich Operating System your BPS machine is currently utilizing (e.g. Windows NT\, Windows XP\, Windows 10\, Windows CE7)\nWhat your machine(s) configuration(s) are (e.g. BPS M5-L-4-4-4\, BPS M3-1060L\, BPS C4-15)\nWhat peripheral devices your site has (e.g. BPS Connect\, DEG\, Header Card Creator)
URL:https://gdai-training.com/event/bps-c5-with-bander-only-basic-technical-for-gd-vegas-only-07102025-west-coast-fes-only/
LOCATION:Private: G+D USA Vegas\, 6311 Dean Martin Drive\, Las Vegas\, NV\, 89118\, United States
CATEGORIES:BPS C5,C5 Bander
ATTACH;FMTTYPE=image/png:https://gdai-training.com/wp-content/uploads/2023/08/BPS_C5_Bander.png
ORGANIZER;CN="Sean Preston":MAILTO:sean.preston@gi-de.com
END:VEVENT
END:VCALENDAR