BEGIN:VCALENDAR
VERSION:2.0
PRODID:-//gdai-training - ECPv6.15.11//NONSGML v1.0//EN
CALSCALE:GREGORIAN
METHOD:PUBLISH
X-ORIGINAL-URL:https://gdai-training.com
X-WR-CALDESC:Events for gdai-training
REFRESH-INTERVAL;VALUE=DURATION:PT1H
X-Robots-Tag:noindex
X-PUBLISHED-TTL:PT1H
BEGIN:VTIMEZONE
TZID:UTC
BEGIN:STANDARD
TZOFFSETFROM:+0000
TZOFFSETTO:+0000
TZNAME:UTC
DTSTART:20230101T000000
END:STANDARD
END:VTIMEZONE
BEGIN:VTIMEZONE
TZID:America/New_York
BEGIN:DAYLIGHT
TZOFFSETFROM:-0500
TZOFFSETTO:-0400
TZNAME:EDT
DTSTART:20230312T070000
END:DAYLIGHT
BEGIN:STANDARD
TZOFFSETFROM:-0400
TZOFFSETTO:-0500
TZNAME:EST
DTSTART:20231105T060000
END:STANDARD
BEGIN:DAYLIGHT
TZOFFSETFROM:-0500
TZOFFSETTO:-0400
TZNAME:EDT
DTSTART:20240310T070000
END:DAYLIGHT
BEGIN:STANDARD
TZOFFSETFROM:-0400
TZOFFSETTO:-0500
TZNAME:EST
DTSTART:20241103T060000
END:STANDARD
BEGIN:DAYLIGHT
TZOFFSETFROM:-0500
TZOFFSETTO:-0400
TZNAME:EDT
DTSTART:20250309T070000
END:DAYLIGHT
BEGIN:STANDARD
TZOFFSETFROM:-0400
TZOFFSETTO:-0500
TZNAME:EST
DTSTART:20251102T060000
END:STANDARD
BEGIN:DAYLIGHT
TZOFFSETFROM:-0500
TZOFFSETTO:-0400
TZNAME:EDT
DTSTART:20260308T070000
END:DAYLIGHT
BEGIN:STANDARD
TZOFFSETFROM:-0400
TZOFFSETTO:-0500
TZNAME:EST
DTSTART:20261101T060000
END:STANDARD
END:VTIMEZONE
BEGIN:VEVENT
DTSTART;TZID=UTC:20260303T080000
DTEND;TZID=UTC:20260320T170000
DTSTAMP:20260423T203757
CREATED:20251114T194504Z
LAST-MODIFIED:20251121T142810Z
UID:10774-1772524800-1774026000@gdai-training.com
SUMMARY:BPS M8 Basic Technical Class #03202026
DESCRIPTION:ALL Personnel:  You must log in (Course Enrollment Login) and successfully pass the GDAI Competency Evaluation before you can enroll in a training course.  Training attire is work casual.   \n   Required Items for All Training Courses: \n\nSuccessful completion of the GDAI Competency Evaluation\nLaptop:\n\nWindows 11 with VMWare Player 12.1 or 15.5 installed – all operating systems should include full administrator privileges.\nMicrosoft Office suite\nAdobe PDF Reader\n\n\nUSB storage medium\n\n  \nRecommended Hotel accommodations (ask for the G+D rate) Marriott Residence Inn Dulles 28 Centre
URL:https://gdai-training.com/event/bps-m8-basic-technical-class-03202026/
LOCATION:G+D USA Training\, Location 45925 Horseshoe Dr. Sterling\, VA 20166\, VA\, 20166\, United States
CATEGORIES:BPS M8
ATTACH;FMTTYPE=image/png:https://gdai-training.com/wp-content/uploads/2024/09/M8-CP-highres.png
ORGANIZER;CN="Christopher Tinker":MAILTO:chris.tinker@gi-de.com
END:VEVENT
BEGIN:VEVENT
DTSTART;TZID=UTC:20260203T080000
DTEND;TZID=UTC:20260220T170000
DTSTAMP:20260423T203757
CREATED:20251114T184828Z
LAST-MODIFIED:20251114T184828Z
UID:10771-1770105600-1771606800@gdai-training.com
SUMMARY:BPS M8 Basic Technical Class #02032026
DESCRIPTION:ALL Personnel:  You must log in (Course Enrollment Login) and successfully pass the GDAI Competency Evaluation before you can enroll in a training course.  Training attire is work casual.   \n   Required Items for All Training Courses: \n\nSuccessful completion of the GDAI Competency Evaluation\nLaptop:\n\nWindows 11 with VMWare Player 12.1 or 15.5 installed – all operating systems should include full administrator privileges.\nMicrosoft Office suite\nAdobe PDF Reader\n\n\nUSB storage medium\n\n  \nRecommended Hotel accommodations (ask for the G+D rate) Marriott Residence Inn Dulles 28 Centre
URL:https://gdai-training.com/event/bps-m8-basic-technical-class-02032026/
LOCATION:G+D USA Training\, Location 45925 Horseshoe Dr. Sterling\, VA 20166\, VA\, 20166\, United States
CATEGORIES:BPS M8
ATTACH;FMTTYPE=image/png:https://gdai-training.com/wp-content/uploads/2024/09/M8-CP-highres.png
ORGANIZER;CN="Christopher Tinker":MAILTO:chris.tinker@gi-de.com
END:VEVENT
BEGIN:VEVENT
DTSTART;TZID=UTC:20260113T080000
DTEND;TZID=UTC:20260130T170000
DTSTAMP:20260423T203758
CREATED:20251114T171139Z
LAST-MODIFIED:20251210T144532Z
UID:10762-1768291200-1769792400@gdai-training.com
SUMMARY:BPS M8 Basic Technical Class #01132026
DESCRIPTION:ALL Personnel:  You must log in (Course Enrollment Login) and successfully pass the GDAI Competency Evaluation before you can enroll in a training course.  Training attire is work casual.   \n   Required Items for All Training Courses: \n\nSuccessful completion of the GDAI Competency Evaluation\nLaptop:\n\nWindows 11 with VMWare Player 12.1 or 15.5 installed – all operating systems should include full administrator privileges.\nMicrosoft Office suite\nAdobe PDF Reader\n\n\nUSB storage medium\n\n  \nRecommended Hotel accommodations (ask for the G+D rate) Marriott Residence Inn Dulles 28 Centre
URL:https://gdai-training.com/event/bps-m8-basic-technical-class-01062026/
LOCATION:G+D USA Training\, Location 45925 Horseshoe Dr. Sterling\, VA 20166\, VA\, 20166\, United States
CATEGORIES:BPS M8
ATTACH;FMTTYPE=image/png:https://gdai-training.com/wp-content/uploads/2024/09/M8-CP-highres.png
ORGANIZER;CN="Christopher Tinker":MAILTO:chris.tinker@gi-de.com
END:VEVENT
BEGIN:VEVENT
DTSTART;TZID=UTC:20251202T080000
DTEND;TZID=UTC:20251220T170000
DTSTAMP:20260423T203758
CREATED:20250321T141416Z
LAST-MODIFIED:20251015T121828Z
UID:9926-1764662400-1766250000@gdai-training.com
SUMMARY:BPS M8 Basic Technical Class #12022025
DESCRIPTION:ALL Personnel:  You must log in (Course Enrollment Login) and successfully pass the GDAI Competency Evaluation before you can enroll in a training course.  Training attire is work casual.   \n   Required Items for All Training Courses: \n\nSuccessful completion of the GDAI Competency Evaluation\nLaptop:\n\nWindows 11 with VMWare Player 12.1 or 15.5 installed – all operating systems should include full administrator privileges.\nMicrosoft Office suite\nAdobe PDF Reader\n\n\nUSB storage medium\n\n  \nRecommended Hotel accommodations (ask for the G+D rate) Marriott Residence Inn Dulles 28 Centre
URL:https://gdai-training.com/event/bps-m8-basic-technical-class-12012025/
LOCATION:G+D USA Training\, Location 45925 Horseshoe Dr. Sterling\, VA 20166\, VA\, 20166\, United States
CATEGORIES:BPS M8
ATTACH;FMTTYPE=image/png:https://gdai-training.com/wp-content/uploads/2024/09/M8-CP-highres.png
ORGANIZER;CN="Christopher Tinker":MAILTO:chris.tinker@gi-de.com
END:VEVENT
BEGIN:VEVENT
DTSTART;TZID=UTC:20251104T080000
DTEND;TZID=UTC:20251121T170000
DTSTAMP:20260423T203758
CREATED:20250321T140805Z
LAST-MODIFIED:20251015T122016Z
UID:9922-1762243200-1763744400@gdai-training.com
SUMMARY:BPS M8 Basic Technical Class #11042025
DESCRIPTION:ALL Personnel:  You must log in (Course Enrollment Login) and successfully pass the GDAI Competency Evaluation before you can enroll in a training course.  Training attire is work casual.   \n   Required Items for All Training Courses: \n\nSuccessful completion of the GDAI Competency Evaluation\nLaptop PC with:\n\nWindows 11 with VMWare Player 12.1 or 15.5 installed – all operating systems should include full administrator privileges.\nMicrosoft Office suite\nAdobe PDF Reader\n\n\nUSB storage medium\n\n  \nRecommended Hotel accommodations (ask for the G+D rate) Marriott Residence Inn Dulles 28 Centre
URL:https://gdai-training.com/event/bps-m8-basic-technical-class-11032025/
LOCATION:G+D USA Training\, Location 45925 Horseshoe Dr. Sterling\, VA 20166\, VA\, 20166\, United States
CATEGORIES:BPS M8
ATTACH;FMTTYPE=image/png:https://gdai-training.com/wp-content/uploads/2024/09/M8-CP-highres.png
ORGANIZER;CN="Christopher Tinker":MAILTO:chris.tinker@gi-de.com
END:VEVENT
BEGIN:VEVENT
DTSTART;TZID=UTC:20251006T080000
DTEND;TZID=UTC:20251024T170000
DTSTAMP:20260423T203758
CREATED:20250321T140222Z
LAST-MODIFIED:20250414T130747Z
UID:9919-1759737600-1761325200@gdai-training.com
SUMMARY:BPS M8 Basic Technical Class #10062025
DESCRIPTION:ALL Personnel:  You must log in (Course Enrollment Login) and successfully pass the GDAI Competency Evaluation before you can enroll in a training course.  Training attire is work casual.   \n   Required Items for All Training Courses: \n\nSuccessful completion of the GDAI Competency Evaluation\nLaptop PC with: (this laptop is a service tool and is expected to remain with the student when they return to their home areas)\n\nWindows XP\, or Windows 7/10 with VMWare Player 12.1 or 15.5 installed – all operating systems should include full administrator privileges.\nMicrosoft Office suite\nAdobe PDF Reader\n\n\nUSB storage medium\, RJ-45 cable\, and USB to serial adapter may be required for your class.\n\n  \nRecommended Hotel accommodations (ask for the G+D rate) Marriott Residence Inn Dulles 28 Centre
URL:https://gdai-training.com/event/bps-m8-basic-technical-class-10062025/
LOCATION:G+D USA Training\, Location 45925 Horseshoe Dr. Sterling\, VA 20166\, VA\, 20166\, United States
CATEGORIES:BPS M8
ATTACH;FMTTYPE=image/png:https://gdai-training.com/wp-content/uploads/2024/09/M8-CP-highres.png
ORGANIZER;CN="Christopher Tinker":MAILTO:chris.tinker@gi-de.com
END:VEVENT
BEGIN:VEVENT
DTSTART;TZID=UTC:20250908T080000
DTEND;TZID=UTC:20250926T170000
DTSTAMP:20260423T203758
CREATED:20250321T134850Z
LAST-MODIFIED:20250414T130710Z
UID:9916-1757318400-1758906000@gdai-training.com
SUMMARY:BPS M8 Basic Technical Class #09082025
DESCRIPTION:ALL Personnel:  You must log in (Course Enrollment Login) and successfully pass the GDAI Competency Evaluation before you can enroll in a training course.  Training attire is work casual.   \n   Required Items for All Training Courses: \n\nSuccessful completion of the GDAI Competency Evaluation\nLaptop PC with: (this laptop is a service tool and is expected to remain with the student when they return to their home areas)\n\nWindows XP\, or Windows 7/10 with VMWare Player 12.1 or 15.5 installed – all operating systems should include full administrator privileges.\nMicrosoft Office suite\nAdobe PDF Reader\n\n\nUSB storage medium\, RJ-45 cable\, and USB to serial adapter may be required for your class.\n\n  \nRecommended Hotel accommodations (ask for the G+D rate) Marriott Residence Inn Dulles 28 Centre
URL:https://gdai-training.com/event/bps-m8-basic-technical-class-09082025/
LOCATION:G+D USA Training\, Location 45925 Horseshoe Dr. Sterling\, VA 20166\, VA\, 20166\, United States
CATEGORIES:BPS M8
ATTACH;FMTTYPE=image/png:https://gdai-training.com/wp-content/uploads/2024/09/M8-CP-highres.png
ORGANIZER;CN="Christopher Tinker":MAILTO:chris.tinker@gi-de.com
END:VEVENT
BEGIN:VEVENT
DTSTART;TZID=UTC:20250728T080000
DTEND;TZID=UTC:20250815T170000
DTSTAMP:20260423T203758
CREATED:20250224T132320Z
LAST-MODIFIED:20250414T130622Z
UID:9817-1753689600-1755277200@gdai-training.com
SUMMARY:BPS M8 Basic Technical Class #07282025
DESCRIPTION:ALL Personnel:  You must log in (Course Enrollment Login) and successfully pass the GDAI Competency Evaluation before you can enroll in a training course.  Training attire is work casual.   \n   Required Items for All Training Courses: \n\nSuccessful completion of the GDAI Competency Evaluation\nLaptop PC with: (this laptop is a service tool and is expected to remain with the student when they return to their home areas)\n\nWindows XP\, or Windows 7/10 with VMWare Player 12.1 or 15.5 installed – all operating systems should include full administrator privileges.\nMicrosoft Office suite\nAdobe PDF Reader\n\n\nUSB storage medium\, RJ-45 cable\, and USB to serial adapter may be required for your class.\n\n  \nRecommended Hotel accommodations (ask for the G+D rate) Marriott Residence Inn Dulles 28 Centre
URL:https://gdai-training.com/event/bps-m8-basic-technical-class-07212025/
LOCATION:G+D USA Training\, Location 45925 Horseshoe Dr. Sterling\, VA 20166\, VA\, 20166\, United States
CATEGORIES:BPS M8
ATTACH;FMTTYPE=image/png:https://gdai-training.com/wp-content/uploads/2024/09/M8-CP-highres.png
ORGANIZER;CN="Christopher Tinker":MAILTO:chris.tinker@gi-de.com
END:VEVENT
BEGIN:VEVENT
DTSTART;TZID=UTC:20250707T080000
DTEND;TZID=UTC:20250725T170000
DTSTAMP:20260423T203758
CREATED:20250224T131603Z
LAST-MODIFIED:20250228T133922Z
UID:9813-1751875200-1753462800@gdai-training.com
SUMMARY:BPS M8 Basic Technical Class #07072025
DESCRIPTION:ALL Personnel:  You must log in (Course Enrollment Login) and successfully pass the GDAI Competency Evaluation before you can enroll in a training course.  Training attire is work casual.   \n   Required Items for All Training Courses:\n\nSuccessful completion of the GDAI Competency Evaluation\nLaptop PC with: (this laptop is a service tool and is expected to remain with the student when they return to their home areas)\n\nWindows XP\, or Windows 7/10 with VMWare Player 12.1 or 15.5 installed – all operating systems should include full administrator privileges.\nMicrosoft Office suite\nAdobe PDF Reader\n\n\nUSB storage medium\, RJ-45 cable\, and USB to serial adapter may be required for your class.\n\n  \nRecommended Hotel accommodations (ask for the G+D rate) Marriott Residence Inn Dulles 28 Centre
URL:https://gdai-training.com/event/bps-m8-basic-technical-class-06232025/
LOCATION:G+D USA Training\, Location 45925 Horseshoe Dr. Sterling\, VA 20166\, VA\, 20166\, United States
CATEGORIES:BPS M8
ATTACH;FMTTYPE=image/png:https://gdai-training.com/wp-content/uploads/2024/09/M8-CP-highres.png
ORGANIZER;CN="Christopher Tinker":MAILTO:chris.tinker@gi-de.com
END:VEVENT
BEGIN:VEVENT
DTSTART;TZID=America/New_York:20250527T080000
DTEND;TZID=America/New_York:20250613T170000
DTSTAMP:20260423T203758
CREATED:20250224T130602Z
LAST-MODIFIED:20250410T125349Z
UID:9810-1748332800-1749834000@gdai-training.com
SUMMARY:BPS M8 Basic Technical Class #05272025
DESCRIPTION:ALL Personnel:  You must log in (Course Enrollment Login) and successfully pass the GDAI Competency Evaluation before you can enroll in a training course.  Training attire is work casual.   \n   Required Items for All Training Courses:\n\nSuccessful completion of the GDAI Competency Evaluation\nLaptop PC with: (this laptop is a service tool and is expected to remain with the student when they return to their home areas)\n\nWindows XP\, or Windows 7/10 with VMWare Player 12.1 or 15.5 installed – all operating systems should include full administrator privileges.\nMicrosoft Office suite\nAdobe PDF Reader\n\n\nUSB storage medium\, RJ-45 cable\, and USB to serial adapter may be required for your class.\n\n  \nRecommended Hotel accommodations (ask for the G+D rate) Marriott Residence Inn Dulles 28 Centre
URL:https://gdai-training.com/event/bps-m8-basic-technical-class-05262025/
LOCATION:G+D USA Training\, Location 45925 Horseshoe Dr. Sterling\, VA 20166\, VA\, 20166\, United States
CATEGORIES:BPS M8
ATTACH;FMTTYPE=image/png:https://gdai-training.com/wp-content/uploads/2024/09/M8-CP-highres.png
ORGANIZER;CN="Christopher Tinker":MAILTO:chris.tinker@gi-de.com
END:VEVENT
BEGIN:VEVENT
DTSTART;TZID=America/New_York:20250505T080000
DTEND;TZID=America/New_York:20250523T170000
DTSTAMP:20260423T203758
CREATED:20250123T131751Z
LAST-MODIFIED:20250224T134924Z
UID:9681-1746432000-1748019600@gdai-training.com
SUMMARY:BPS M8 Basic Technical Class #05052025
DESCRIPTION:ALL Personnel:  You must log in (Course Enrollment Login) and successfully pass the GDAI Competency Evaluation before you can enroll in a training course.  Training attire is work casual.   \n   Required Items for All Training Courses:\n\nSuccessful completion of the GDAI Competency Evaluation\nLaptop PC with: (this laptop is a service tool and is expected to remain with the student when they return to their home areas)\n\nWindows XP\, or Windows 7/10 with VMWare Player 12.1 or 15.5 installed – all operating systems should include full administrator privileges.\nMicrosoft Office suite\nAdobe PDF Reader\n\n\nUSB storage medium\, RJ-45 cable\, and USB to serial adapter may be required for your class.\n\n  \nRecommended Hotel accommodations (ask for the G+D rate) Marriott Residence Inn Dulles 28 Centre
URL:https://gdai-training.com/event/bps-m8-basic-technical-class-5-5-2025/
LOCATION:G+D USA Training\, Location 45925 Horseshoe Dr. Sterling\, VA 20166\, VA\, 20166\, United States
CATEGORIES:BPS M8
ATTACH;FMTTYPE=image/png:https://gdai-training.com/wp-content/uploads/2024/09/M8-CP-highres.png
ORGANIZER;CN="Christopher Tinker":MAILTO:chris.tinker@gi-de.com
END:VEVENT
BEGIN:VEVENT
DTSTART;TZID=UTC:20250414T080000
DTEND;TZID=UTC:20250502T170000
DTSTAMP:20260423T203758
CREATED:20250217T175934Z
LAST-MODIFIED:20250224T135104Z
UID:9762-1744617600-1746205200@gdai-training.com
SUMMARY:BPS M8 Basic Technical Class #04142025
DESCRIPTION:ALL Personnel:  You must log in (Course Enrollment Login) and successfully pass the GDAI Competency Evaluation before you can enroll in a training course.  Training attire is work casual.   \n   Required Items for All Training Courses:\n\nSuccessful completion of the GDAI Competency Evaluation\nLaptop PC with: (this laptop is a service tool and is expected to remain with the student when they return to their home areas)\n\nWindows XP\, or Windows 7/10 with VMWare Player 12.1 or 15.5 installed – all operating systems should include full administrator privileges.\nMicrosoft Office suite\nAdobe PDF Reader\n\n\nUSB storage medium\, RJ-45 cable\, and USB to serial adapter may be required for your class.\n\n  \nRecommended Hotel accommodations (ask for the G+D rate) Marriott Residence Inn Dulles 28 Centre
URL:https://gdai-training.com/event/bps-m8-basic-technical-class-04142025/
LOCATION:G+D USA Training\, Location 45925 Horseshoe Dr. Sterling\, VA 20166\, VA\, 20166\, United States
CATEGORIES:BPS M8
ATTACH;FMTTYPE=image/png:https://gdai-training.com/wp-content/uploads/2024/09/M8-CP-highres.png
ORGANIZER;CN="Christopher Tinker":MAILTO:chris.tinker@gi-de.com
END:VEVENT
BEGIN:VEVENT
DTSTART;TZID=America/New_York:20250324T080000
DTEND;TZID=America/New_York:20250411T160000
DTSTAMP:20260423T203758
CREATED:20240906T181240Z
LAST-MODIFIED:20250303T154153Z
UID:9370-1742803200-1744387200@gdai-training.com
SUMMARY:M8 Install Team Training #03242025
DESCRIPTION:The only prerequisite for this class is the competency evaluation and bring your service laptop w/ local admin rights.
URL:https://gdai-training.com/event/m8-install-team-training-12022024/
LOCATION:G+D USA Training\, Location 45925 Horseshoe Dr. Sterling\, VA 20166\, VA\, 20166\, United States
CATEGORIES:BPS M8
ATTACH;FMTTYPE=image/png:https://gdai-training.com/wp-content/uploads/2024/09/M8-CP-highres.png
ORGANIZER;CN="Bob Luersen":MAILTO:robert.luersen@gi-de.com
END:VEVENT
BEGIN:VEVENT
DTSTART;TZID=America/New_York:20250303T080000
DTEND;TZID=America/New_York:20250321T170000
DTSTAMP:20260423T203758
CREATED:20241017T182412Z
LAST-MODIFIED:20250214T132951Z
UID:9487-1740988800-1742576400@gdai-training.com
SUMMARY:M8 Install Team Training #03032025
DESCRIPTION:
URL:https://gdai-training.com/event/m8-install-team-training-03102025/
LOCATION:G+D USA Training\, Location 45925 Horseshoe Dr. Sterling\, VA 20166\, VA\, 20166\, United States
CATEGORIES:BPS M8
ATTACH;FMTTYPE=image/png:https://gdai-training.com/wp-content/uploads/2024/09/M8-CP-highres.png
ORGANIZER;CN="Bob Luersen":MAILTO:robert.luersen@gi-de.com
END:VEVENT
BEGIN:VEVENT
DTSTART;TZID=America/New_York:20250210T080000
DTEND;TZID=America/New_York:20250228T170000
DTSTAMP:20260423T203758
CREATED:20240906T181731Z
LAST-MODIFIED:20240906T181731Z
UID:9375-1739174400-1740762000@gdai-training.com
SUMMARY:BPS M8 Install Team Training #02102025
DESCRIPTION:The only prerequisite for this class is the competency evaluation and bring your service laptop w/ local admin rights.
URL:https://gdai-training.com/event/bps-m8-install-team-training-02102025/
LOCATION:G+D USA Training\, Location 45925 Horseshoe Dr. Sterling\, VA 20166\, VA\, 20166\, United States
CATEGORIES:BPS M8
ATTACH;FMTTYPE=image/png:https://gdai-training.com/wp-content/uploads/2024/09/M8-CP-highres.png
ORGANIZER;CN="Bob Luersen":MAILTO:robert.luersen@gi-de.com
END:VEVENT
BEGIN:VEVENT
DTSTART;TZID=America/New_York:20250106T080000
DTEND;TZID=America/New_York:20250124T170000
DTSTAMP:20260423T203758
CREATED:20240906T181506Z
LAST-MODIFIED:20240906T181506Z
UID:9372-1736150400-1737738000@gdai-training.com
SUMMARY:BPS M8 Install Team Training #01062025
DESCRIPTION:The only prerequisite for this class is the competency evaluation and bring your service laptop w/ local admin rights.
URL:https://gdai-training.com/event/bps-m8-install-team-training-01062025/
LOCATION:G+D USA Training\, Location 45925 Horseshoe Dr. Sterling\, VA 20166\, VA\, 20166\, United States
CATEGORIES:BPS M8
ATTACH;FMTTYPE=image/png:https://gdai-training.com/wp-content/uploads/2024/09/M8-CP-highres.png
ORGANIZER;CN="Bob Luersen":MAILTO:robert.luersen@gi-de.com
END:VEVENT
BEGIN:VEVENT
DTSTART;TZID=America/New_York:20241104T080000
DTEND;TZID=America/New_York:20241122T170000
DTSTAMP:20260423T203758
CREATED:20240906T180941Z
LAST-MODIFIED:20240906T180941Z
UID:9367-1730707200-1732294800@gdai-training.com
SUMMARY:M8 Install Team Training #11042024
DESCRIPTION:The only prerequisite for this class is the competency evaluation and bring your service laptop w/ local admin rights.
URL:https://gdai-training.com/event/m8-install-team-training-11042024/
LOCATION:G+D USA Training\, Location 45925 Horseshoe Dr. Sterling\, VA 20166\, VA\, 20166\, United States
CATEGORIES:BPS M8
ATTACH;FMTTYPE=image/png:https://gdai-training.com/wp-content/uploads/2024/09/M8-CP-highres.png
ORGANIZER;CN="Bob Luersen":MAILTO:robert.luersen@gi-de.com
END:VEVENT
BEGIN:VEVENT
DTSTART;TZID=America/New_York:20241014T080000
DTEND;TZID=America/New_York:20241101T170000
DTSTAMP:20260423T203758
CREATED:20240906T180649Z
LAST-MODIFIED:20240919T131601Z
UID:9362-1728892800-1730480400@gdai-training.com
SUMMARY:BPS M8 Basic Technical #10142024
DESCRIPTION:The only prerequisite for this class is the competency evaluation and bring your service laptop w/ local admin rights.
URL:https://gdai-training.com/event/bps-m8-install-team-training-10142024/
LOCATION:G+D USA Training\, Location 45925 Horseshoe Dr. Sterling\, VA 20166\, VA\, 20166\, United States
CATEGORIES:BPS M8
ATTACH;FMTTYPE=image/png:https://gdai-training.com/wp-content/uploads/2024/09/M8-CP-highres.png
ORGANIZER;CN="Bob Luersen":MAILTO:robert.luersen@gi-de.com
END:VEVENT
BEGIN:VEVENT
DTSTART;TZID=UTC:20240610T080000
DTEND;TZID=UTC:20240628T160000
DTSTAMP:20260423T203758
CREATED:20240402T231722Z
LAST-MODIFIED:20240406T011513Z
UID:9101-1718006400-1719590400@gdai-training.com
SUMMARY:BPS M8 #06102024 (CP & RS For Seattle & EROC ONLY)
DESCRIPTION:This training is for FE’s from SEATTLE FRB and EROC FRB ONLY!!!
URL:https://gdai-training.com/event/bps-m8-06032024-cp/
LOCATION:G+D USA Training\, Location 45925 Horseshoe Dr. Sterling\, VA 20166\, VA\, 20166\, United States
CATEGORIES:BPS M8
ORGANIZER;CN="Bob Luersen":MAILTO:robert.luersen@gi-de.com
END:VEVENT
END:VCALENDAR