BEGIN:VCALENDAR
VERSION:2.0
PRODID:-//gdai-training - ECPv6.15.11//NONSGML v1.0//EN
CALSCALE:GREGORIAN
METHOD:PUBLISH
X-WR-CALNAME:gdai-training
X-ORIGINAL-URL:https://gdai-training.com
X-WR-CALDESC:Events for gdai-training
REFRESH-INTERVAL;VALUE=DURATION:PT1H
X-Robots-Tag:noindex
X-PUBLISHED-TTL:PT1H
BEGIN:VTIMEZONE
TZID:UTC
BEGIN:STANDARD
TZOFFSETFROM:+0000
TZOFFSETTO:+0000
TZNAME:UTC
DTSTART:20250101T000000
END:STANDARD
END:VTIMEZONE
BEGIN:VEVENT
DTSTART;TZID=UTC:20260505T080000
DTEND;TZID=UTC:20260522T160000
DTSTAMP:20260423T221155
CREATED:20251117T170631Z
LAST-MODIFIED:20260210T210805Z
UID:10804-1777968000-1779465600@gdai-training.com
SUMMARY:BPS 3000 Phase 1 Class# 05052026
DESCRIPTION:ALL Personnel:  You must log in (Course Enrollment Login) and successfully pass the GDAI Competency Evaluation before you can enroll in a training course.  Training attire is work casual. \nRequired Items for All Training Courses: \n\nSuccessful completion of the GDAI Competency Evaluation\nLaptop PC with: (this laptop is a service tool and is expected to remain with the student when they return to their home areas)\n\no            Windows XP\, or Windows 7/10 with VMWare Player 12.1 or 15.5 installed – all operating systems should include full administrator privileges. \no            Microsoft Office suite \no            Adobe PDF Reader \n\nUSB storage medium\, RJ-45 cable\, and USB to serial adapter may be required for your class.
URL:https://gdai-training.com/event/bps-3000-phase-1-class-03102026/
LOCATION:G+D USA Training\, Location 45925 Horseshoe Dr. Sterling\, VA 20166\, VA\, 20166\, United States
CATEGORIES:BPS 3000
ATTACH;FMTTYPE=image/png:https://gdai-training.com/wp-content/uploads/2023/06/BPS-3000-CP.png
ORGANIZER;CN="Jack Ashton":MAILTO:jack.ashton@gi-de.com
END:VEVENT
END:VCALENDAR