BEGIN:VCALENDAR
VERSION:2.0
PRODID:-//gdai-training - ECPv6.15.11//NONSGML v1.0//EN
CALSCALE:GREGORIAN
METHOD:PUBLISH
X-ORIGINAL-URL:https://gdai-training.com
X-WR-CALDESC:Events for gdai-training
REFRESH-INTERVAL;VALUE=DURATION:PT1H
X-Robots-Tag:noindex
X-PUBLISHED-TTL:PT1H
BEGIN:VTIMEZONE
TZID:UTC
BEGIN:STANDARD
TZOFFSETFROM:+0000
TZOFFSETTO:+0000
TZNAME:UTC
DTSTART:20240101T000000
END:STANDARD
END:VTIMEZONE
BEGIN:VEVENT
DTSTART;TZID=UTC:20250708T080000
DTEND;TZID=UTC:20250718T160000
DTSTAMP:20260424T110735
CREATED:20250327T214850Z
LAST-MODIFIED:20250414T131258Z
UID:9951-1751961600-1752854400@gdai-training.com
SUMMARY:BPS 3000 Phase 2 Class#07082025
DESCRIPTION:Basic Technical and Software for the BPS 3000 RS
URL:https://gdai-training.com/event/bps-3000-phase-2-class07082025/
LOCATION:G+D USA Training\, Location 45925 Horseshoe Dr. Sterling\, VA 20166\, VA\, 20166\, United States
CATEGORIES:BPS 3000
ATTACH;FMTTYPE=image/png:https://gdai-training.com/wp-content/uploads/2023/05/BPS-3000-RS.png
ORGANIZER;CN="Jack Ashton":MAILTO:jack.ashton@gi-de.com
END:VEVENT
END:VCALENDAR