BEGIN:VCALENDAR
VERSION:2.0
PRODID:-//gdai-training - ECPv6.15.11//NONSGML v1.0//EN
CALSCALE:GREGORIAN
METHOD:PUBLISH
X-ORIGINAL-URL:https://gdai-training.com
X-WR-CALDESC:Events for gdai-training
REFRESH-INTERVAL;VALUE=DURATION:PT1H
X-Robots-Tag:noindex
X-PUBLISHED-TTL:PT1H
BEGIN:VTIMEZONE
TZID:America/New_York
BEGIN:DAYLIGHT
TZOFFSETFROM:-0500
TZOFFSETTO:-0400
TZNAME:EDT
DTSTART:20240310T070000
END:DAYLIGHT
BEGIN:STANDARD
TZOFFSETFROM:-0400
TZOFFSETTO:-0500
TZNAME:EST
DTSTART:20241103T060000
END:STANDARD
BEGIN:DAYLIGHT
TZOFFSETFROM:-0500
TZOFFSETTO:-0400
TZNAME:EDT
DTSTART:20250309T070000
END:DAYLIGHT
BEGIN:STANDARD
TZOFFSETFROM:-0400
TZOFFSETTO:-0500
TZNAME:EST
DTSTART:20251102T060000
END:STANDARD
BEGIN:DAYLIGHT
TZOFFSETFROM:-0500
TZOFFSETTO:-0400
TZNAME:EDT
DTSTART:20260308T070000
END:DAYLIGHT
BEGIN:STANDARD
TZOFFSETFROM:-0400
TZOFFSETTO:-0500
TZNAME:EST
DTSTART:20261101T060000
END:STANDARD
END:VTIMEZONE
BEGIN:VEVENT
DTSTART;TZID=America/New_York:20250107T080000
DTEND;TZID=America/New_York:20250117T160000
DTSTAMP:20260424T214901
CREATED:20241008T194943Z
LAST-MODIFIED:20241008T194943Z
UID:9458-1736236800-1737129600@gdai-training.com
SUMMARY:BPS 3000 Phase 2 (RS) #01072025
DESCRIPTION:
URL:https://gdai-training.com/event/bps-3000-phase-2-rs-01072025/
LOCATION:G+D USA Training\, Location 45925 Horseshoe Dr. Sterling\, VA 20166\, VA\, 20166\, United States
CATEGORIES:BPS 3000
ATTACH;FMTTYPE=image/png:https://gdai-training.com/wp-content/uploads/2023/05/BPS-3000-RS-1.png
ORGANIZER;CN="Robert Allen":MAILTO:robert.allen@gi-de.com
END:VEVENT
END:VCALENDAR