BEGIN:VCALENDAR
VERSION:2.0
PRODID:-//gdai-training - ECPv6.15.11//NONSGML v1.0//EN
CALSCALE:GREGORIAN
METHOD:PUBLISH
X-WR-CALNAME:gdai-training
X-ORIGINAL-URL:https://gdai-training.com
X-WR-CALDESC:Events for gdai-training
REFRESH-INTERVAL;VALUE=DURATION:PT1H
X-Robots-Tag:noindex
X-PUBLISHED-TTL:PT1H
BEGIN:VTIMEZONE
TZID:UTC
BEGIN:STANDARD
TZOFFSETFROM:+0000
TZOFFSETTO:+0000
TZNAME:UTC
DTSTART:20240101T000000
END:STANDARD
END:VTIMEZONE
BEGIN:VEVENT
DTSTART;TZID=UTC:20251020T080000
DTEND;TZID=UTC:20251107T170000
DTSTAMP:20260423T235822
CREATED:20250421T171436Z
LAST-MODIFIED:20250912T183037Z
UID:10044-1760947200-1762534800@gdai-training.com
SUMMARY:BPS 3000 Phase 2 Class#10282025
DESCRIPTION:Basic Technical and Software for the RS
URL:https://gdai-training.com/event/bps-3000-phase-2-class09232025/
LOCATION:G+D USA Training\, Location 45925 Horseshoe Dr. Sterling\, VA 20166\, VA\, 20166\, United States
CATEGORIES:BPS 3000
ATTACH;FMTTYPE=image/png:https://gdai-training.com/wp-content/uploads/2023/05/BPS-3000-RS.png
ORGANIZER;CN="Jack Ashton":MAILTO:jack.ashton@gi-de.com
END:VEVENT
END:VCALENDAR