BEGIN:VCALENDAR
VERSION:2.0
PRODID:-//gdai-training - ECPv6.15.11//NONSGML v1.0//EN
CALSCALE:GREGORIAN
METHOD:PUBLISH
X-ORIGINAL-URL:https://gdai-training.com
X-WR-CALDESC:Events for gdai-training
REFRESH-INTERVAL;VALUE=DURATION:PT1H
X-Robots-Tag:noindex
X-PUBLISHED-TTL:PT1H
BEGIN:VTIMEZONE
TZID:UTC
BEGIN:STANDARD
TZOFFSETFROM:+0000
TZOFFSETTO:+0000
TZNAME:UTC
DTSTART:20240101T000000
END:STANDARD
END:VTIMEZONE
BEGIN:VTIMEZONE
TZID:America/New_York
BEGIN:DAYLIGHT
TZOFFSETFROM:-0500
TZOFFSETTO:-0400
TZNAME:EDT
DTSTART:20240310T070000
END:DAYLIGHT
BEGIN:STANDARD
TZOFFSETFROM:-0400
TZOFFSETTO:-0500
TZNAME:EST
DTSTART:20241103T060000
END:STANDARD
BEGIN:DAYLIGHT
TZOFFSETFROM:-0500
TZOFFSETTO:-0400
TZNAME:EDT
DTSTART:20250309T070000
END:DAYLIGHT
BEGIN:STANDARD
TZOFFSETFROM:-0400
TZOFFSETTO:-0500
TZNAME:EST
DTSTART:20251102T060000
END:STANDARD
BEGIN:DAYLIGHT
TZOFFSETFROM:-0500
TZOFFSETTO:-0400
TZNAME:EDT
DTSTART:20260308T070000
END:DAYLIGHT
BEGIN:STANDARD
TZOFFSETFROM:-0400
TZOFFSETTO:-0500
TZNAME:EST
DTSTART:20261101T060000
END:STANDARD
END:VTIMEZONE
BEGIN:VEVENT
DTSTART;TZID=UTC:20250728T080000
DTEND;TZID=UTC:20250815T170000
DTSTAMP:20260424T063654
CREATED:20250224T132320Z
LAST-MODIFIED:20250414T130622Z
UID:9817-1753689600-1755277200@gdai-training.com
SUMMARY:BPS M8 Basic Technical Class #07282025
DESCRIPTION:ALL Personnel:  You must log in (Course Enrollment Login) and successfully pass the GDAI Competency Evaluation before you can enroll in a training course.  Training attire is work casual.   \n   Required Items for All Training Courses: \n\nSuccessful completion of the GDAI Competency Evaluation\nLaptop PC with: (this laptop is a service tool and is expected to remain with the student when they return to their home areas)\n\nWindows XP\, or Windows 7/10 with VMWare Player 12.1 or 15.5 installed – all operating systems should include full administrator privileges.\nMicrosoft Office suite\nAdobe PDF Reader\n\n\nUSB storage medium\, RJ-45 cable\, and USB to serial adapter may be required for your class.\n\n  \nRecommended Hotel accommodations (ask for the G+D rate) Marriott Residence Inn Dulles 28 Centre
URL:https://gdai-training.com/event/bps-m8-basic-technical-class-07212025/
LOCATION:G+D USA Training\, Location 45925 Horseshoe Dr. Sterling\, VA 20166\, VA\, 20166\, United States
CATEGORIES:BPS M8
ATTACH;FMTTYPE=image/png:https://gdai-training.com/wp-content/uploads/2024/09/M8-CP-highres.png
ORGANIZER;CN="Christopher Tinker":MAILTO:chris.tinker@gi-de.com
END:VEVENT
BEGIN:VEVENT
DTSTART;TZID=America/New_York:20250805T080000
DTEND;TZID=America/New_York:20250813T160000
DTSTAMP:20260424T063654
CREATED:20250722T214718Z
LAST-MODIFIED:20250722T214718Z
UID:10314-1754380800-1755100800@gdai-training.com
SUMMARY:BPS C5 with Bander Basic Technical #08052025
DESCRIPTION:G+D USA Training Requirements \nALL Personnel:  You must log in (Course Enrollment Login) and successfully pass the GDAI Competency Evaluation before you can enroll in a training course.  Training attire is work casual.   \n   Required Items for All Training Courses:\n\nSuccessful completion of the GDAI Competency Evaluation\nLaptop PC with: (this laptop is a service tool and is expected to remain with the student when they return to their home areas)\n\nWindows XP\, or Windows 7/10 with VMWare Player 12.1 or 15.5 installed – all operating systems should include full administrator privileges.\nMicrosoft Office suite\nAdobe PDF Reader\n\n\nUSB storage medium\, RJ-45 cable\, and USB to serial adapter may be required for your class.  Please see the chart below:\n\n\n\n\nProduct\nUSB Storage Type\nRJ45 cable\nUSB/Serial adapter2\n\n\nBPS C4\n16GB USB 2.0\nYes\nYes\n\n\nBPS C5\n32GB USB 2.0\nYes\nNo\n\n\n\n\n\n\n\n\nBPS M3\n64GB USB 3.0\nYes\nNo\n\n\nBPS M5\n32GB USB 2.0\nYes\nYes\n\n\n\n1 RJ45 (Ethernet) port must be fully installed\, and the Crossover cable should be 10ft minimum in length \n2 PC must contain 1 serial port\, or USB to serial adapter with FTDI Chip (G+D P/N 515424000 or Amazon P/N B006AA04K0). \nRecommended for All Training Courses: \nFor the best and most efficient class experience\, please make your best effort to know: \n\nWhich Operating System your BPS machine is currently utilizing (e.g. Windows NT\, Windows XP\, Windows 10\, Windows CE7)\nWhat your machine(s) configuration(s) are (e.g. BPS M5-L-4-4-4\, BPS M3-1060L\, BPS C4-15)\nWhat peripheral devices your site has (e.g. BPS Connect\, DEG\, Header Card Creator)\n\nRecommended Hotel accommodations (ask for the G+D rate) Marriott Residence Inn Dulles 28 Centre
URL:https://gdai-training.com/event/bps-c5-with-bander-basic-technical-08052025/
LOCATION:G+D USA Training\, Location 45925 Horseshoe Dr. Sterling\, VA 20166\, VA\, 20166\, United States
CATEGORIES:BPS C5,C5 Bander
ATTACH;FMTTYPE=image/png:https://gdai-training.com/wp-content/uploads/2023/08/BPS_C5_Bander.png
ORGANIZER;CN="Sean Preston":MAILTO:sean.preston@gi-de.com
END:VEVENT
BEGIN:VEVENT
DTSTART;TZID=America/New_York:20250805T080000
DTEND;TZID=America/New_York:20250821T160000
DTSTAMP:20260424T063654
CREATED:20250522T123158Z
LAST-MODIFIED:20250708T153425Z
UID:10203-1754380800-1755792000@gdai-training.com
SUMMARY:BPS M5 MEVO Basic Technical #08052025
DESCRIPTION:G+D USA Training Requirements \nALL Personnel:  You must log in (Course Enrollment Login) and successfully pass the GDAI Competency Evaluation before you can enroll in a training course.  Training attire is work casual.   \n   Required Items for All Training Courses:\n\nSuccessful completion of the GDAI Competency Evaluation\nLaptop PC with: (this laptop is a service tool and is expected to remain with the student when they return to their home areas)\n\nWindows XP\, or Windows 7/10 with VMWare Player 12.1 or 15.5 installed – all operating systems should include full administrator privileges.\nMicrosoft Office suite\nAdobe PDF Reader\n\n\nUSB storage medium\, RJ-45 cable\, and USB to serial adapter may be required for your class.  Please see the chart below:\n\n\n\n\nProduct\nUSB Storage Type\nRJ45 cable\nUSB/Serial adapter2\n\n\nBPS C4\n16GB USB 2.0\nYes\nYes\n\n\nBPS C5\n32GB USB 2.0\nYes\nNo\n\n\n\n\n\n\n\n\nBPS M3\n64GB USB 3.0\nYes\nNo\n\n\nBPS M5\n64GB USB 3.0\nYes\nYes\n\n\n\n* For attendees of BPS M5 classes that are covering M EVO and Legacy software\, you will need 2 USB drives. \n1 RJ45 (Ethernet) port must be fully installed \n2 PC must contain 1 serial port\, or USB to serial adapter with FTDI Chip (G+D P/N 515424000 or Amazon P/N B006AA04K0). \nRecommended for All Training Courses: \nFor the best and most efficient class experience\, please make your best effort to know: \n\nWhich Operating System your BPS machine is currently utilizing (e.g. Windows NT\, Windows XP\, Windows 10\, Windows CE7)\nWhat your machine(s) configuration(s) are (e.g. BPS M5-L-4-4-4\, BPS M3-1060L\, BPS C4-15)\nWhat peripheral devices your site has (e.g. BPS Connect\, DEG\, Header Card Creator)\n\nRecommended Hotel accommodations (ask for the G+D rate) Marriott Residence Inn Dulles 28 Centre
URL:https://gdai-training.com/event/bps-m5-mevo-basic-technical-08052025/
LOCATION:G+D USA Training\, Location 45925 Horseshoe Dr. Sterling\, VA 20166\, VA\, 20166\, United States
CATEGORIES:BPS M5,M-Evo
ATTACH;FMTTYPE=image/jpeg:https://gdai-training.com/wp-content/uploads/2022/11/BPS-M5-scaled.jpg
ORGANIZER;CN="Keith Wells":MAILTO:keith.wells@gi-de.com
END:VEVENT
END:VCALENDAR